BEGIN:VCALENDAR
VERSION:2.0
PRODID:-//CiviCRM//NONSGML CiviEvent iCal//EN
X-WR-TIMEZONE:Europe/London
METHOD:PUBLISH
BEGIN:VTIMEZONE
TZID:Europe/London
BEGIN:DAYLIGHT
TZOFFSETFROM:+0100
TZOFFSETTO:+0100
TZNAME:BST
DTSTART:20260512T133000
END:DAYLIGHT
END:VTIMEZONE
BEGIN:VEVENT
UID:CiviCRM_EventID_662_884fac8ee188a2d8c9e0e564f77ede3d@hastingsvoluntaryaction.org.uk
SUMMARY:Directors Briefing
X-ALT-DESC;FMTTYPE=text/html:<!DOCTYPE HTML PUBLIC
  "-//W3C//DTD HTML 3.2//EN"><html><body><p>Are you
  new in post or keen to find out more about the se
 ctor? This workshop\, led by HVA Director Steve Ma
 nwaring\, will include a briefing about the scale 
 and contribution of the VCSE sector in Hastings\, 
 information about the services HVA provide\, and a
 n opportunity to hear about and discuss the key is
 sues affecting the sector.</p>\n \n <p>&nbsp\;</p>
 </body></html>
DESCRIPTION:Are you new in post or keen to find out more about
  the sector? This workshop\, led by HVA Director S
 teve Manwaring\, will include a briefing about the
  scale and contribution of the VCSE sector in Hast
 ings\, information about the services HVA provide\
 , and an opportunity to hear about and discuss the
  key issues affecting the sector.\n \n \n \n  \n \
 n 
CATEGORIES:Workshop
CALSCALE:GREGORIAN
DTSTAMP;TZID=Europe/London:20260512T143000
DTSTART;TZID=Europe/London:20260512T143000
DTEND;TZID=Europe/London:20260512T153000
LOCATION:Hastings Voluntary Action\n Jackson Hall\n Portlan
 d Place\n Hastings\, TN34-1QN\n United Kingdom\n 
URL:https://hastingsvoluntaryaction.org.uk/civicrm/event/info?reset=1&id=662
END:VEVENT
END:VCALENDAR
